BEGIN:VCALENDAR
VERSION:2.0
PRODID:-//Plone.org//NONSGML plone.app.event//EN
X-WR-TIMEZONE:Europe/Zurich
BEGIN:VEVENT
SUMMARY:Verschiebedatum Sporttag
DTSTART;VALUE=DATE:20190621
DTEND;VALUE=DATE:20190622
DTSTAMP;VALUE=DATE-TIME:20260421T110540Z
UID:040000008200E00074C5B7101A82E0080000000030F09E2FD907D40100000000000000
 0010000000961E73A175A42D4CBD66C8D666D44312
CREATED;VALUE=DATE-TIME:20180629T060539Z
DESCRIPTION:\n\n
LAST-MODIFIED;VALUE=DATE-TIME:20200706T064353Z
URL:https://www.sek-pratteln.ch/events/oeffentlich/verschiebedatum-sportta
 g-2
END:VEVENT
END:VCALENDAR
