BEGIN:VCALENDAR
VERSION:2.0
PRODID:-//Plone.org//NONSGML plone.app.event//EN
X-WR-TIMEZONE:Europe/Zurich
BEGIN:VEVENT
SUMMARY:Verkehrsunterricht 9. Klassen
DTSTART;VALUE=DATE:20240625
DTEND;VALUE=DATE:20240626
DTSTAMP;VALUE=DATE-TIME:20260421T150741Z
UID:040000008200E00074C5B7101A82E0080000000030AD3C5755A4D90100000000000000
 001000000000EDE319663A794C82AD59E05DAF875E
CREATED;VALUE=DATE-TIME:20230626T125532Z
LAST-MODIFIED;VALUE=DATE-TIME:20230626T130008Z
URL:https://www.sek-pratteln.ch/events/oeffentlich/verkehrsunterricht-9-kl
 assen
END:VEVENT
END:VCALENDAR
