BEGIN:VCALENDAR
VERSION:2.0
PRODID:-//Plone.org//NONSGML plone.app.event//EN
X-WR-TIMEZONE:Europe/Zurich
BEGIN:VEVENT
SUMMARY:Verkehrsunterricht 9. Klassen
DTSTART;VALUE=DATE:20240618
DTEND;VALUE=DATE:20240619
DTSTAMP;VALUE=DATE-TIME:20260421T111111Z
UID:040000008200E00074C5B7101A82E008000000009027AACA53A4D90100000000000000
 001000000087AEF32881D6734DB4736EA2B258316A
CREATED;VALUE=DATE-TIME:20230626T125534Z
LAST-MODIFIED;VALUE=DATE-TIME:20230626T130008Z
URL:https://www.sek-pratteln.ch/events/oeffentlich/verkehrsunterricht-9-kl
 assen-3
END:VEVENT
END:VCALENDAR
