BEGIN:VCALENDAR
VERSION:2.0
PRODID:-//Plone.org//NONSGML plone.app.event//EN
X-WR-TIMEZONE:Europe/Zurich
BEGIN:VEVENT
SUMMARY:Verkehrsunterricht 9. Klassen
DTSTART;VALUE=DATE:20240620
DTEND;VALUE=DATE:20240621
DTSTAMP;VALUE=DATE-TIME:20260421T111112Z
UID:040000008200E00074C5B7101A82E00800000000804CC0E053A4D90100000000000000
 0010000000FCE04AE5D46EC54FAFB0B2CE3E227C18
CREATED;VALUE=DATE-TIME:20230626T125534Z
LAST-MODIFIED;VALUE=DATE-TIME:20230626T130008Z
URL:https://www.sek-pratteln.ch/events/oeffentlich/verkehrsunterricht-9-kl
 assen-2
END:VEVENT
END:VCALENDAR
