BEGIN:VCALENDAR
VERSION:2.0
PRODID:-//Plone.org//NONSGML plone.app.event//EN
X-WR-TIMEZONE:Europe/Zurich
BEGIN:VEVENT
SUMMARY:Verkehrsinstruktion 4Ab / bäv
DTSTART;TZID=Europe/Zurich;VALUE=DATE-TIME:20160201T082000
DTEND;TZID=Europe/Zurich;VALUE=DATE-TIME:20160201T095500
DTSTAMP;VALUE=DATE-TIME:20260419T153817Z
UID:01da3120f4e04d6eb92956419449fd0f@5.35.252.84:8090
CONTACT:Valentin Bächtold
CREATED;VALUE=DATE-TIME:20160108T124504Z
LAST-MODIFIED;VALUE=DATE-TIME:20200706T064344Z
LOCATION:Aula Q-Trakt
URL:https://www.sek-pratteln.ch/events/oeffentlich/verkehrsinstruktion-4ab
 -baev
END:VEVENT
BEGIN:VTIMEZONE
TZID:Europe/Zurich
X-LIC-LOCATION:Europe/Zurich
BEGIN:STANDARD
DTSTART;VALUE=DATE-TIME:20151025T020000
TZNAME:CET
TZOFFSETFROM:+0200
TZOFFSETTO:+0100
END:STANDARD
END:VTIMEZONE
END:VCALENDAR
