BEGIN:VCALENDAR
VERSION:2.0
PRODID:-//Plone.org//NONSGML plone.app.event//EN
X-WR-TIMEZONE:Europe/Zurich
BEGIN:VEVENT
SUMMARY:Unterricht nach Stundenplan
DTSTART;TZID=Europe/Zurich;VALUE=DATE-TIME:20150817T101500
DTEND;TZID=Europe/Zurich;VALUE=DATE-TIME:20150817T170000
DTSTAMP;VALUE=DATE-TIME:20260421T110938Z
UID:040000008200E00074C5B7101A82E0080000000080F10105308FD00100000000000000
 00100000003C18430040441F4C859632F301E9D274
CREATED;VALUE=DATE-TIME:20150710T073750Z
DESCRIPTION:\n
LAST-MODIFIED;VALUE=DATE-TIME:20200706T064341Z
URL:https://www.sek-pratteln.ch/events/oeffentlich/unterricht-nach-stunden
 plan
END:VEVENT
BEGIN:VTIMEZONE
TZID:Europe/Zurich
X-LIC-LOCATION:Europe/Zurich
BEGIN:DAYLIGHT
DTSTART;VALUE=DATE-TIME:20150329T030000
TZNAME:CEST
TZOFFSETFROM:+0100
TZOFFSETTO:+0200
END:DAYLIGHT
END:VTIMEZONE
END:VCALENDAR
