BEGIN:VCALENDAR
VERSION:2.0
PRODID:-//Plone.org//NONSGML plone.app.event//EN
X-WR-TIMEZONE:Europe/Zurich
BEGIN:VEVENT
SUMMARY:Unterricht nach Stundenplan
DTSTART;VALUE=DATE:20251219
DTEND;VALUE=DATE:20251220
DTSTAMP;VALUE=DATE-TIME:20260419T182716Z
UID:040000008200E00074C5B7101A82E008000000001070CE5128D2DB0100000000000000
 0010000000A29568F8740D59498A9684DDC3A3B392
CREATED;VALUE=DATE-TIME:20250611T084848Z
LAST-MODIFIED;VALUE=DATE-TIME:20250611T085809Z
URL:https://www.sek-pratteln.ch/events/oeffentlich/unterricht-nach-stunden
 plan-1
END:VEVENT
END:VCALENDAR
