BEGIN:VCALENDAR
VERSION:2.0
PRODID:-//Plone.org//NONSGML plone.app.event//EN
X-WR-TIMEZONE:Europe/Zurich
BEGIN:VEVENT
SUMMARY:Übertrittsprüfungen
DTSTART;TZID=Europe/Zurich;VALUE=DATE-TIME:20200127T080000
DTEND;TZID=Europe/Zurich;VALUE=DATE-TIME:20200127T120000
DTSTAMP;VALUE=DATE-TIME:20260421T104840Z
UID:040000008200E00074C5B7101A82E00800000000F0584E624D32D50100000000000000
 0010000000D858D7F6BB409846AC6A0FDE77BE25E3
CREATED;VALUE=DATE-TIME:20190708T101811Z
DESCRIPTION:\n\n
LAST-MODIFIED;VALUE=DATE-TIME:20200706T064356Z
LOCATION:grosse Aula B
URL:https://www.sek-pratteln.ch/events/oeffentlich/uebertrittspruefungen
END:VEVENT
BEGIN:VTIMEZONE
TZID:Europe/Zurich
X-LIC-LOCATION:Europe/Zurich
BEGIN:STANDARD
DTSTART;VALUE=DATE-TIME:20191027T020000
TZNAME:CET
TZOFFSETFROM:+0200
TZOFFSETTO:+0100
END:STANDARD
END:VTIMEZONE
END:VCALENDAR
