BEGIN:VCALENDAR
VERSION:2.0
PRODID:-//Plone.org//NONSGML plone.app.event//EN
X-WR-TIMEZONE:Europe/Zurich
BEGIN:VEVENT
SUMMARY:UBS Football CUP
DTSTART;TZID=Europe/Zurich;VALUE=DATE-TIME:20250514T120000
DTEND;TZID=Europe/Zurich;VALUE=DATE-TIME:20250514T180000
DTSTAMP;VALUE=DATE-TIME:20260421T144845Z
UID:4e6e27a507d1445185de675b67fc1bc1@82.220.37.140:8081
CREATED;VALUE=DATE-TIME:20250225T104059Z
LAST-MODIFIED;VALUE=DATE-TIME:20250227T134729Z
URL:https://www.sek-pratteln.ch/events/oeffentlich/ubs-football-cup
END:VEVENT
BEGIN:VTIMEZONE
TZID:Europe/Zurich
X-LIC-LOCATION:Europe/Zurich
BEGIN:DAYLIGHT
DTSTART;VALUE=DATE-TIME:20250330T030000
TZNAME:CEST
TZOFFSETFROM:+0100
TZOFFSETTO:+0200
END:DAYLIGHT
END:VTIMEZONE
END:VCALENDAR
