BEGIN:VCALENDAR
VERSION:2.0
PRODID:-//Plone.org//NONSGML plone.app.event//EN
X-WR-TIMEZONE:Europe/Zurich
BEGIN:VEVENT
SUMMARY:Theaterführung/Workshop Tell
DTSTART;TZID=Europe/Zurich;VALUE=DATE-TIME:20170315T160000
DTEND;TZID=Europe/Zurich;VALUE=DATE-TIME:20170315T180000
DTSTAMP;VALUE=DATE-TIME:20260421T110940Z
UID:f524237dfb114e11bef7e531906f5a01@5.35.252.84:8090
CREATED;VALUE=DATE-TIME:20170302T093632Z
LAST-MODIFIED;VALUE=DATE-TIME:20200706T064349Z
URL:https://www.sek-pratteln.ch/events/oeffentlich/theaterfuehrung-worksho
 p-tell
END:VEVENT
BEGIN:VTIMEZONE
TZID:Europe/Zurich
X-LIC-LOCATION:Europe/Zurich
BEGIN:STANDARD
DTSTART;VALUE=DATE-TIME:20161030T020000
TZNAME:CET
TZOFFSETFROM:+0200
TZOFFSETTO:+0100
END:STANDARD
END:VTIMEZONE
END:VCALENDAR
