BEGIN:VCALENDAR
VERSION:2.0
PRODID:-//Plone.org//NONSGML plone.app.event//EN
X-WR-TIMEZONE:Europe/Zurich
BEGIN:VEVENT
SUMMARY:Theateraufführung Theatergruppe
DTSTART;TZID=Europe/Zurich;VALUE=DATE-TIME:20240502T190000
DTEND;TZID=Europe/Zurich;VALUE=DATE-TIME:20240502T230000
DTSTAMP;VALUE=DATE-TIME:20260421T111217Z
UID:f9bbdef6856b45dab77c59872f199374@82.220.37.140:8081
CREATED;VALUE=DATE-TIME:20240321T083359Z
LAST-MODIFIED;VALUE=DATE-TIME:20240321T083404Z
LOCATION:grosse Aula-B
URL:https://www.sek-pratteln.ch/events/oeffentlich/theaterauffuehrung-thea
 tergruppe
END:VEVENT
BEGIN:VTIMEZONE
TZID:Europe/Zurich
X-LIC-LOCATION:Europe/Zurich
BEGIN:DAYLIGHT
DTSTART;VALUE=DATE-TIME:20240331T030000
TZNAME:CEST
TZOFFSETFROM:+0100
TZOFFSETTO:+0200
END:DAYLIGHT
END:VTIMEZONE
END:VCALENDAR
