BEGIN:VCALENDAR
VERSION:2.0
PRODID:-//Plone.org//NONSGML plone.app.event//EN
X-WR-TIMEZONE:Europe/Zurich
BEGIN:VEVENT
SUMMARY:Theater-Abo
DTSTART;TZID=Europe/Zurich;VALUE=DATE-TIME:20160502T200000
DTSTAMP;VALUE=DATE-TIME:20260421T110257Z
UID:4a968e5ff8934cfaa44dee5066058517@5.35.252.84:8090
CONTACT:P. Füeg
CREATED;VALUE=DATE-TIME:20160407T114845Z
DESCRIPTION:Der Menschenfeind
LAST-MODIFIED;VALUE=DATE-TIME:20200706T064345Z
LOCATION:Schauspielhaus
URL:https://www.sek-pratteln.ch/events/oeffentlich/theaterabo
END:VEVENT
BEGIN:VTIMEZONE
TZID:Europe/Zurich
X-LIC-LOCATION:Europe/Zurich
BEGIN:DAYLIGHT
DTSTART;VALUE=DATE-TIME:20160327T030000
TZNAME:CEST
TZOFFSETFROM:+0100
TZOFFSETTO:+0200
END:DAYLIGHT
END:VTIMEZONE
END:VCALENDAR
