BEGIN:VCALENDAR
VERSION:2.0
PRODID:-//Plone.org//NONSGML plone.app.event//EN
X-WR-TIMEZONE:Europe/Zurich
BEGIN:VEVENT
SUMMARY:Theaterabo: Wilhelm Tell (Schauspiel)
DTSTART;TZID=Europe/Zurich;VALUE=DATE-TIME:20170323T193000
DTSTAMP;VALUE=DATE-TIME:20260421T111202Z
UID:ac1278fc635e483587e7c07dcc767f06@5.35.252.84:8090
CREATED;VALUE=DATE-TIME:20161129T073430Z
LAST-MODIFIED;VALUE=DATE-TIME:20200706T064349Z
LOCATION:Grosse Bühne Theater Basel
URL:https://www.sek-pratteln.ch/events/oeffentlich/theaterabo-wilhelm-tell
 -schauspiel
END:VEVENT
BEGIN:VTIMEZONE
TZID:Europe/Zurich
X-LIC-LOCATION:Europe/Zurich
BEGIN:STANDARD
DTSTART;VALUE=DATE-TIME:20161030T020000
TZNAME:CET
TZOFFSETFROM:+0200
TZOFFSETTO:+0100
END:STANDARD
END:VTIMEZONE
END:VCALENDAR
