BEGIN:VCALENDAR
VERSION:2.0
PRODID:-//Plone.org//NONSGML plone.app.event//EN
X-WR-TIMEZONE:Europe/Zurich
BEGIN:VEVENT
SUMMARY:Theaterabo: Urfaust (Schauspiel)
DTSTART;TZID=Europe/Zurich;VALUE=DATE-TIME:20161114T193000
DTSTAMP;VALUE=DATE-TIME:20260420T034610Z
UID:6e9059e8edc24b40a197bb1a5041c80f@5.35.252.84:8090
CREATED;VALUE=DATE-TIME:20161007T071009Z
LAST-MODIFIED;VALUE=DATE-TIME:20200706T064348Z
LOCATION:Schauspielhaus Basel
URL:https://www.sek-pratteln.ch/events/oeffentlich/theaterabo-urfaust-scha
 uspiel
END:VEVENT
BEGIN:VTIMEZONE
TZID:Europe/Zurich
X-LIC-LOCATION:Europe/Zurich
BEGIN:STANDARD
DTSTART;VALUE=DATE-TIME:20161030T020000
TZNAME:CET
TZOFFSETFROM:+0200
TZOFFSETTO:+0100
END:STANDARD
END:VTIMEZONE
END:VCALENDAR
