BEGIN:VCALENDAR
VERSION:2.0
PRODID:-//Plone.org//NONSGML plone.app.event//EN
X-WR-TIMEZONE:Europe/Zurich
BEGIN:VEVENT
SUMMARY:Theaterabo: Satyagraha (Oper)
DTSTART;TZID=Europe/Zurich;VALUE=DATE-TIME:20170612T193000
DTSTAMP;VALUE=DATE-TIME:20260421T110709Z
UID:ad0b5a9383674ffbae439258d739488d@5.35.252.84:8090
CREATED;VALUE=DATE-TIME:20161129T073618Z
LAST-MODIFIED;VALUE=DATE-TIME:20200706T064349Z
LOCATION:Grosse Bühne Theater Basel
URL:https://www.sek-pratteln.ch/events/oeffentlich/theaterabo-satyagraha-o
 per
END:VEVENT
BEGIN:VTIMEZONE
TZID:Europe/Zurich
X-LIC-LOCATION:Europe/Zurich
BEGIN:DAYLIGHT
DTSTART;VALUE=DATE-TIME:20170326T030000
TZNAME:CEST
TZOFFSETFROM:+0100
TZOFFSETTO:+0200
END:DAYLIGHT
END:VTIMEZONE
END:VCALENDAR
