BEGIN:VCALENDAR
VERSION:2.0
PRODID:-//Plone.org//NONSGML plone.app.event//EN
X-WR-TIMEZONE:Europe/Zurich
BEGIN:VEVENT
SUMMARY:Theaterabo: Die Unverheiratete (Schauspiel)
DTSTART;TZID=Europe/Zurich;VALUE=DATE-TIME:20170530T193000
DTSTAMP;VALUE=DATE-TIME:20260421T111217Z
UID:f400c4c6c900415c82b31627b790bd69@5.35.252.84:8090
CREATED;VALUE=DATE-TIME:20161129T073517Z
LAST-MODIFIED;VALUE=DATE-TIME:20200706T064349Z
LOCATION:Schauspielhaus Basel
URL:https://www.sek-pratteln.ch/events/oeffentlich/theaterabo-die-unverhei
 ratete-schauspiel
END:VEVENT
BEGIN:VTIMEZONE
TZID:Europe/Zurich
X-LIC-LOCATION:Europe/Zurich
BEGIN:DAYLIGHT
DTSTART;VALUE=DATE-TIME:20170326T030000
TZNAME:CEST
TZOFFSETFROM:+0100
TZOFFSETTO:+0200
END:DAYLIGHT
END:VTIMEZONE
END:VCALENDAR
