BEGIN:VCALENDAR
VERSION:2.0
PRODID:-//Plone.org//NONSGML plone.app.event//EN
X-WR-TIMEZONE:Europe/Zurich
BEGIN:VEVENT
SUMMARY:Theater-Abo: Schwanensee
DTSTART;TZID=Europe/Zurich;VALUE=DATE-TIME:20180320T193000
DTSTAMP;VALUE=DATE-TIME:20260421T110553Z
UID:856977cb8b984debbe5b512e9b720db6@5.35.252.84:8090
CREATED;VALUE=DATE-TIME:20170922T064254Z
DESCRIPTION:Ballett
LAST-MODIFIED;VALUE=DATE-TIME:20200706T064352Z
LOCATION:Grosse Bühne\, Theater Basel
URL:https://www.sek-pratteln.ch/events/oeffentlich/theater-abo-schwanensee
END:VEVENT
BEGIN:VTIMEZONE
TZID:Europe/Zurich
X-LIC-LOCATION:Europe/Zurich
BEGIN:STANDARD
DTSTART;VALUE=DATE-TIME:20171029T020000
TZNAME:CET
TZOFFSETFROM:+0200
TZOFFSETTO:+0100
END:STANDARD
END:VTIMEZONE
END:VCALENDAR
