BEGIN:VCALENDAR
VERSION:2.0
PRODID:-//Plone.org//NONSGML plone.app.event//EN
X-WR-TIMEZONE:Europe/Zurich
BEGIN:VEVENT
SUMMARY:Theater-Abo: Leonce & Lena
DTSTART;TZID=Europe/Zurich;VALUE=DATE-TIME:20171215T193000
DTSTAMP;VALUE=DATE-TIME:20260421T105116Z
UID:84bfdda33f63414ebb97ecf8c468673d@5.35.252.84:8090
CREATED;VALUE=DATE-TIME:20170921T093237Z
DESCRIPTION:Schauspiel
LAST-MODIFIED;VALUE=DATE-TIME:20200706T064352Z
LOCATION:Schauspielhaus\, Basel
URL:https://www.sek-pratteln.ch/events/oeffentlich/theater-abo-leonce-lena
END:VEVENT
BEGIN:VTIMEZONE
TZID:Europe/Zurich
X-LIC-LOCATION:Europe/Zurich
BEGIN:STANDARD
DTSTART;VALUE=DATE-TIME:20171029T020000
TZNAME:CET
TZOFFSETFROM:+0200
TZOFFSETTO:+0100
END:STANDARD
END:VTIMEZONE
END:VCALENDAR
