BEGIN:VCALENDAR
VERSION:2.0
PRODID:-//Plone.org//NONSGML plone.app.event//EN
X-WR-TIMEZONE:Europe/Zurich
BEGIN:VEVENT
SUMMARY:Theater-Abo: La Traviata
DTSTART;TZID=Europe/Zurich;VALUE=DATE-TIME:20180129T193000
DTSTAMP;VALUE=DATE-TIME:20260421T110937Z
UID:afa7d45a5cb34f20887d07e7141f3ac1@5.35.252.84:8090
CREATED;VALUE=DATE-TIME:20170922T063922Z
DESCRIPTION:Oper
LAST-MODIFIED;VALUE=DATE-TIME:20200706T064352Z
LOCATION:Grosse Bühne\, Theater Basel
URL:https://www.sek-pratteln.ch/events/oeffentlich/theater-abo-la-traviata
END:VEVENT
BEGIN:VTIMEZONE
TZID:Europe/Zurich
X-LIC-LOCATION:Europe/Zurich
BEGIN:STANDARD
DTSTART;VALUE=DATE-TIME:20171029T020000
TZNAME:CET
TZOFFSETFROM:+0200
TZOFFSETTO:+0100
END:STANDARD
END:VTIMEZONE
END:VCALENDAR
