BEGIN:VCALENDAR
VERSION:2.0
PRODID:-//Plone.org//NONSGML plone.app.event//EN
X-WR-TIMEZONE:Europe/Zurich
BEGIN:VEVENT
SUMMARY:Theater-Abo: Die Dreigroschenoper
DTSTART;TZID=Europe/Zurich;VALUE=DATE-TIME:20180419T193000
DTSTAMP;VALUE=DATE-TIME:20260421T111008Z
UID:70895e8753414424b59da00f085c089b@5.35.252.84:8090
CREATED;VALUE=DATE-TIME:20170922T064425Z
DESCRIPTION:Oper
LAST-MODIFIED;VALUE=DATE-TIME:20200706T064352Z
LOCATION:Grosse Bühne\, Theater Basel
URL:https://www.sek-pratteln.ch/events/oeffentlich/theater-abo-die-dreigro
 schenoper
END:VEVENT
BEGIN:VTIMEZONE
TZID:Europe/Zurich
X-LIC-LOCATION:Europe/Zurich
BEGIN:DAYLIGHT
DTSTART;VALUE=DATE-TIME:20180325T030000
TZNAME:CEST
TZOFFSETFROM:+0100
TZOFFSETTO:+0200
END:DAYLIGHT
END:VTIMEZONE
END:VCALENDAR
