BEGIN:VCALENDAR
VERSION:2.0
PRODID:-//Plone.org//NONSGML plone.app.event//EN
X-WR-TIMEZONE:Europe/Zurich
BEGIN:VEVENT
SUMMARY:Theater-Abo: Der Spieler
DTSTART;TZID=Europe/Zurich;VALUE=DATE-TIME:20180612T193000
DTSTAMP;VALUE=DATE-TIME:20260420T095830Z
UID:193d27b5661d420eaa76a63d3e381e67@5.35.252.84:8090
CREATED;VALUE=DATE-TIME:20170922T064541Z
DESCRIPTION:Oper
LAST-MODIFIED;VALUE=DATE-TIME:20200706T064352Z
LOCATION:Grosse Bühne\, Theater Basel
URL:https://www.sek-pratteln.ch/events/oeffentlich/theater-abo-der-spieler
END:VEVENT
BEGIN:VTIMEZONE
TZID:Europe/Zurich
X-LIC-LOCATION:Europe/Zurich
BEGIN:DAYLIGHT
DTSTART;VALUE=DATE-TIME:20180325T030000
TZNAME:CEST
TZOFFSETFROM:+0100
TZOFFSETTO:+0200
END:DAYLIGHT
END:VTIMEZONE
END:VCALENDAR
