BEGIN:VCALENDAR
VERSION:2.0
PRODID:-//Plone.org//NONSGML plone.app.event//EN
X-WR-TIMEZONE:Europe/Zurich
BEGIN:VEVENT
SUMMARY:Theater-Abo (Der Fremde / Kleine Bühne)
DTSTART;TZID=Europe/Zurich;VALUE=DATE-TIME:20160129T200000
DTSTAMP;VALUE=DATE-TIME:20260421T111214Z
UID:e0a6db7bfcc34960b853984c89a1d4ff@5.35.252.84:8090
CONTACT:Peter Füeg
CREATED;VALUE=DATE-TIME:20160118T084926Z
LAST-MODIFIED;VALUE=DATE-TIME:20200706T064345Z
URL:https://www.sek-pratteln.ch/events/oeffentlich/theater-abo-der-fremde-
 kleine-buehne
END:VEVENT
BEGIN:VTIMEZONE
TZID:Europe/Zurich
X-LIC-LOCATION:Europe/Zurich
BEGIN:STANDARD
DTSTART;VALUE=DATE-TIME:20151025T020000
TZNAME:CET
TZOFFSETFROM:+0200
TZOFFSETTO:+0100
END:STANDARD
END:VTIMEZONE
END:VCALENDAR
