BEGIN:VCALENDAR
VERSION:2.0
PRODID:-//Plone.org//NONSGML plone.app.event//EN
X-WR-TIMEZONE:Europe/Zurich
BEGIN:VEVENT
SUMMARY:Theater-Abo
DTSTART;TZID=Europe/Zurich;VALUE=DATE-TIME:20190218T193000
DTSTAMP;VALUE=DATE-TIME:20260421T110539Z
UID:ffdced9751704fa9986f0c36a5c0e649@5.35.252.84:8090
CONTACT:Peter Füeg
CREATED;VALUE=DATE-TIME:20180927T092841Z
DESCRIPTION:Der Kaiser von Atlantis
LAST-MODIFIED;VALUE=DATE-TIME:20200706T064356Z
LOCATION:Foyer Grosse Bühne\, Basel
URL:https://www.sek-pratteln.ch/events/oeffentlich/theater-abo-7
END:VEVENT
BEGIN:VTIMEZONE
TZID:Europe/Zurich
X-LIC-LOCATION:Europe/Zurich
BEGIN:STANDARD
DTSTART;VALUE=DATE-TIME:20181028T020000
TZNAME:CET
TZOFFSETFROM:+0200
TZOFFSETTO:+0100
END:STANDARD
END:VTIMEZONE
END:VCALENDAR
