BEGIN:VCALENDAR
VERSION:2.0
PRODID:-//Plone.org//NONSGML plone.app.event//EN
X-WR-TIMEZONE:Europe/Zurich
BEGIN:VEVENT
SUMMARY:Theater-Abo
DTSTART;TZID=Europe/Zurich;VALUE=DATE-TIME:20160609T193000
DTSTAMP;VALUE=DATE-TIME:20260421T110529Z
UID:70c212a87866464e99eb5fff242840fa@5.35.252.84:8090
CONTACT:P. Füeg
CREATED;VALUE=DATE-TIME:20160303T141349Z
DESCRIPTION:Melancholia (Oper) / Grosse Bühne
LAST-MODIFIED;VALUE=DATE-TIME:20200706T064345Z
URL:https://www.sek-pratteln.ch/events/oeffentlich/theater-abo-2
END:VEVENT
BEGIN:VTIMEZONE
TZID:Europe/Zurich
X-LIC-LOCATION:Europe/Zurich
BEGIN:DAYLIGHT
DTSTART;VALUE=DATE-TIME:20160327T030000
TZNAME:CEST
TZOFFSETFROM:+0100
TZOFFSETTO:+0200
END:DAYLIGHT
END:VTIMEZONE
END:VCALENDAR
