BEGIN:VCALENDAR
VERSION:2.0
PRODID:-//Plone.org//NONSGML plone.app.event//EN
X-WR-TIMEZONE:Europe/Zurich
BEGIN:VEVENT
SUMMARY:Tag der Arbeit / schulfrei
DTSTART;VALUE=DATE:20240501
DTEND;VALUE=DATE:20240502
DTSTAMP;VALUE=DATE-TIME:20260421T110745Z
UID:040000008200E00074C5B7101A82E00800000000A02B50AA50A4D90100000000000000
 00100000003BAE2E09287F23408B1B93895D92229C
CREATED;VALUE=DATE-TIME:20230626T125539Z
LAST-MODIFIED;VALUE=DATE-TIME:20230626T125939Z
URL:https://www.sek-pratteln.ch/events/oeffentlich/tag-der-arbeit-schulfre
 i
END:VEVENT
END:VCALENDAR
