BEGIN:VCALENDAR
VERSION:2.0
PRODID:-//Plone.org//NONSGML plone.app.event//EN
X-WR-TIMEZONE:Europe/Zurich
BEGIN:VEVENT
SUMMARY:Start Now Workshop
DTSTART;TZID=Europe/Zurich;VALUE=DATE-TIME:20250204T152000
DTEND;TZID=Europe/Zurich;VALUE=DATE-TIME:20250204T170000
DTSTAMP;VALUE=DATE-TIME:20260421T110248Z
UID:356314c5b058494c8f3efe4560807d0d@82.220.37.140:8081
CREATED;VALUE=DATE-TIME:20250109T111133Z
LAST-MODIFIED;VALUE=DATE-TIME:20250109T111137Z
LOCATION:Büro SSA / Zimmer A05
URL:https://www.sek-pratteln.ch/events/oeffentlich/start-now-workshop-2
END:VEVENT
BEGIN:VTIMEZONE
TZID:Europe/Zurich
X-LIC-LOCATION:Europe/Zurich
BEGIN:STANDARD
DTSTART;VALUE=DATE-TIME:20241027T020000
TZNAME:CET
TZOFFSETFROM:+0200
TZOFFSETTO:+0100
END:STANDARD
END:VTIMEZONE
END:VCALENDAR
