BEGIN:VCALENDAR
VERSION:2.0
PRODID:-//Plone.org//NONSGML plone.app.event//EN
X-WR-TIMEZONE:Europe/Zurich
BEGIN:VEVENT
SUMMARY:Start Now Workshop
DTSTART;TZID=Europe/Zurich;VALUE=DATE-TIME:20250121T152000
DTEND;TZID=Europe/Zurich;VALUE=DATE-TIME:20250121T170000
DTSTAMP;VALUE=DATE-TIME:20260421T110300Z
UID:ed77576de88f4014aca225e06e2277e8@82.220.37.140:8081
CREATED;VALUE=DATE-TIME:20250109T111018Z
LAST-MODIFIED;VALUE=DATE-TIME:20250109T111024Z
LOCATION:Büro SSA / Zimmer A05
URL:https://www.sek-pratteln.ch/events/oeffentlich/start-now-workshop-1
END:VEVENT
BEGIN:VTIMEZONE
TZID:Europe/Zurich
X-LIC-LOCATION:Europe/Zurich
BEGIN:STANDARD
DTSTART;VALUE=DATE-TIME:20241027T020000
TZNAME:CET
TZOFFSETFROM:+0200
TZOFFSETTO:+0100
END:STANDARD
END:VTIMEZONE
END:VCALENDAR
