BEGIN:VCALENDAR
VERSION:2.0
PRODID:-//Plone.org//NONSGML plone.app.event//EN
X-WR-TIMEZONE:Europe/Zurich
BEGIN:VEVENT
SUMMARY:Standortgespräche
DTSTART;VALUE=DATE:20260105
DTEND;VALUE=DATE:20260124
DTSTAMP;VALUE=DATE-TIME:20260419T155131Z
UID:040000008200E00074C5B7101A82E00800000000B0C04BDD1FD2DB0100000000000000
 001000000037261589EE90E54E9257D5FB9D7E3A5B
CREATED;VALUE=DATE-TIME:20250611T084906Z
LAST-MODIFIED;VALUE=DATE-TIME:20250611T085728Z
URL:https://www.sek-pratteln.ch/events/oeffentlich/standortgespraeche-9
END:VEVENT
END:VCALENDAR
