BEGIN:VCALENDAR
VERSION:2.0
PRODID:-//Plone.org//NONSGML plone.app.event//EN
X-WR-TIMEZONE:Europe/Zurich
BEGIN:VEVENT
SUMMARY:Standortgespräche
DTSTART;VALUE=DATE:20230109
DTEND;VALUE=DATE:20230211
DTSTAMP;VALUE=DATE-TIME:20260419T151748Z
UID:040000008200E00074C5B7101A82E0080000000060CA84F2A781D80100000000000000
 00100000001C40A05D8B67734492C0610EABDADB21
CREATED;VALUE=DATE-TIME:20220627T163355Z
DESCRIPTION: \n
LAST-MODIFIED;VALUE=DATE-TIME:20220627T170019Z
URL:https://www.sek-pratteln.ch/events/oeffentlich/standortgespraeche-8
END:VEVENT
END:VCALENDAR
