BEGIN:VCALENDAR
VERSION:2.0
PRODID:-//Plone.org//NONSGML plone.app.event//EN
X-WR-TIMEZONE:Europe/Zurich
BEGIN:VEVENT
SUMMARY:Standortgespräche
DTSTART;VALUE=DATE:20221205
DTEND;VALUE=DATE:20221224
DTSTAMP;VALUE=DATE-TIME:20260421T110702Z
UID:040000008200E00074C5B7101A82E00800000000C0CBEE90A781D80100000000000000
 0010000000A12F48A78E7B6E4D947CC3530801CCE6
CREATED;VALUE=DATE-TIME:20220627T163355Z
DESCRIPTION: \n
LAST-MODIFIED;VALUE=DATE-TIME:20220627T170019Z
URL:https://www.sek-pratteln.ch/events/oeffentlich/standortgespraeche-7
END:VEVENT
END:VCALENDAR
