BEGIN:VCALENDAR
VERSION:2.0
PRODID:-//Plone.org//NONSGML plone.app.event//EN
X-WR-TIMEZONE:Europe/Zurich
BEGIN:VEVENT
SUMMARY:Standortgespräche
DTSTART;VALUE=DATE:20201130
DTEND;VALUE=DATE:20201219
DTSTAMP;VALUE=DATE-TIME:20260421T110702Z
UID:040000008200E00074C5B7101A82E00800000000C08EC0A48845D60100000000000000
 00100000003CECCBCB4CD86B40829D6AC4232014A5
CREATED;VALUE=DATE-TIME:20200706T062920Z
LAST-MODIFIED;VALUE=DATE-TIME:20200706T064408Z
URL:https://www.sek-pratteln.ch/events/oeffentlich/standortgespraeche-4
END:VEVENT
END:VCALENDAR
