BEGIN:VCALENDAR
VERSION:2.0
PRODID:-//Plone.org//NONSGML plone.app.event//EN
X-WR-TIMEZONE:Europe/Zurich
BEGIN:VEVENT
SUMMARY:Standortgespräche
DTSTART;VALUE=DATE:20181203
DTEND;VALUE=DATE:20181222
DTSTAMP;VALUE=DATE-TIME:20260421T110610Z
UID:040000008200E00074C5B7101A82E00800000000B012470BD607D40100000000000000
 00100000006A1ED0AAA2BB1E49822CCF1C1ECFE29D
CREATED;VALUE=DATE-TIME:20180629T060552Z
DESCRIPTION:\n\n
LAST-MODIFIED;VALUE=DATE-TIME:20200706T064354Z
URL:https://www.sek-pratteln.ch/events/oeffentlich/standortgespraeche-2
END:VEVENT
END:VCALENDAR
