BEGIN:VCALENDAR
VERSION:2.0
PRODID:-//Plone.org//NONSGML plone.app.event//EN
X-WR-TIMEZONE:Europe/Zurich
BEGIN:VEVENT
SUMMARY:Standortgespräche
DTSTART;VALUE=DATE:20251201
DTEND;VALUE=DATE:20251220
DTSTAMP;VALUE=DATE-TIME:20260419T213909Z
UID:040000008200E00074C5B7101A82E0080000000000FC28B61FD2DB0100000000000000
 001000000058C7319DEBC9344C97BA56338322A725
CREATED;VALUE=DATE-TIME:20250611T084906Z
LAST-MODIFIED;VALUE=DATE-TIME:20250611T085728Z
URL:https://www.sek-pratteln.ch/events/oeffentlich/standortgespraeche-10
END:VEVENT
END:VCALENDAR
