BEGIN:VCALENDAR
VERSION:2.0
PRODID:-//Plone.org//NONSGML plone.app.event//EN
X-WR-TIMEZONE:Europe/Zurich
BEGIN:VEVENT
SUMMARY:Sporttag findet statt!
DTSTART;VALUE=DATE:20170613
DTEND;VALUE=DATE:20170614
DTSTAMP;VALUE=DATE-TIME:20260421T110257Z
UID:040000008200E00074C5B7101A82E00800000000C02157E549D8D10100000000000000
 001000000021A32D1FEEA93F4FA1B239224CCD9389
CREATED;VALUE=DATE-TIME:20160712T121610Z
LAST-MODIFIED;VALUE=DATE-TIME:20200706T064348Z
URL:https://www.sek-pratteln.ch/events/oeffentlich/sporttag
END:VEVENT
END:VCALENDAR
