BEGIN:VCALENDAR
VERSION:2.0
PRODID:-//Plone.org//NONSGML plone.app.event//EN
X-WR-TIMEZONE:Europe/Zurich
BEGIN:VEVENT
SUMMARY:Sporttag (Verschiebedatum)
DTSTART;VALUE=DATE:20210625
DTEND;VALUE=DATE:20210626
DTSTAMP;VALUE=DATE-TIME:20260421T110433Z
UID:040000008200E00074C5B7101A82E00800000000903D0A772A4AD60100000000000000
 001000000024368E11A951FC449ED7CD1320CA6BA3
CREATED;VALUE=DATE-TIME:20200706T062820Z
LAST-MODIFIED;VALUE=DATE-TIME:20200706T064403Z
URL:https://www.sek-pratteln.ch/events/oeffentlich/sporttag-verschiebedatu
 m
END:VEVENT
END:VCALENDAR
