BEGIN:VCALENDAR
VERSION:2.0
PRODID:-//Plone.org//NONSGML plone.app.event//EN
X-WR-TIMEZONE:Europe/Zurich
BEGIN:VEVENT
SUMMARY:Sporttag (Verschiebedatum)
DTSTART;VALUE=DATE:20260622
DTEND;VALUE=DATE:20260623
DTSTAMP;VALUE=DATE-TIME:20260421T110552Z
UID:040000008200E00074C5B7101A82E00800000000F00778432ED2DB0100000000000000
 00100000006244C4EACB96B542B0DC12080135E083
CREATED;VALUE=DATE-TIME:20250611T084836Z
LAST-MODIFIED;VALUE=DATE-TIME:20250611T085916Z
URL:https://www.sek-pratteln.ch/events/oeffentlich/sporttag-verschiebedatu
 m-5
END:VEVENT
END:VCALENDAR
