BEGIN:VCALENDAR
VERSION:2.0
PRODID:-//Plone.org//NONSGML plone.app.event//EN
X-WR-TIMEZONE:Europe/Zurich
BEGIN:VEVENT
SUMMARY:Sporttag (Verschiebedatum)
DTSTART;VALUE=DATE:20240621
DTEND;VALUE=DATE:20240622
DTSTAMP;VALUE=DATE-TIME:20260419T153629Z
UID:040000008200E00074C5B7101A82E00800000000C0B3E20254A4D90100000000000000
 001000000050A54B98A9FE4A4CAD1662634EB64641
CREATED;VALUE=DATE-TIME:20230626T125533Z
LAST-MODIFIED;VALUE=DATE-TIME:20230626T130008Z
URL:https://www.sek-pratteln.ch/events/oeffentlich/sporttag-verschiebedatu
 m-4
END:VEVENT
END:VCALENDAR
