BEGIN:VCALENDAR
VERSION:2.0
PRODID:-//Plone.org//NONSGML plone.app.event//EN
X-WR-TIMEZONE:Europe/Zurich
BEGIN:VEVENT
SUMMARY:Sporttag (Verschiebedatum)
DTSTART;VALUE=DATE:20220624
DTEND;VALUE=DATE:20220625
DTSTAMP;VALUE=DATE-TIME:20260421T104724Z
UID:AAAAADmvca/QyjxDuaACAdVl1X6kGiAA
CREATED;VALUE=DATE-TIME:20220627T163435Z
LAST-MODIFIED;VALUE=DATE-TIME:20220627T165854Z
URL:https://www.sek-pratteln.ch/events/oeffentlich/sporttag-verschiebedatu
 m-3
END:VEVENT
END:VCALENDAR
