BEGIN:VCALENDAR
VERSION:2.0
PRODID:-//Plone.org//NONSGML plone.app.event//EN
X-WR-TIMEZONE:Europe/Zurich
BEGIN:VEVENT
SUMMARY:Sporttag (Verschiebedatum)
DTSTART;VALUE=DATE:20230623
DTEND;VALUE=DATE:20230624
DTSTAMP;VALUE=DATE-TIME:20260421T110540Z
UID:040000008200E00074C5B7101A82E008000000003046C6B23A83D80100000000000000
 00100000000C41E36F332D38498326DB7060BE8CB3
CREATED;VALUE=DATE-TIME:20220627T163429Z
DESCRIPTION: \n
LAST-MODIFIED;VALUE=DATE-TIME:20220627T165913Z
URL:https://www.sek-pratteln.ch/events/oeffentlich/sporttag-verschiebedatu
 m-2
END:VEVENT
END:VCALENDAR
