BEGIN:VCALENDAR
VERSION:2.0
PRODID:-//Plone.org//NONSGML plone.app.event//EN
X-WR-TIMEZONE:Europe/Zurich
BEGIN:VEVENT
SUMMARY:Sporttag
DTSTART;VALUE=DATE:20260615
DTEND;VALUE=DATE:20260616
DTSTAMP;VALUE=DATE-TIME:20260419T152925Z
UID:040000008200E00074C5B7101A82E0080000000040F9516A2DD2DB0100000000000000
 0010000000E653CB65DA8DC546AF3AE755F7B74AFF
CREATED;VALUE=DATE-TIME:20250611T084838Z
LAST-MODIFIED;VALUE=DATE-TIME:20250611T085835Z
URL:https://www.sek-pratteln.ch/events/oeffentlich/sporttag-9
END:VEVENT
END:VCALENDAR
