BEGIN:VCALENDAR
VERSION:2.0
PRODID:-//Plone.org//NONSGML plone.app.event//EN
X-WR-TIMEZONE:Europe/Zurich
BEGIN:VEVENT
SUMMARY:Sporttag
DTSTART;VALUE=DATE:20240617
DTEND;VALUE=DATE:20240618
DTSTAMP;VALUE=DATE-TIME:20260421T110434Z
UID:040000008200E00074C5B7101A82E00800000000E002D2AE53A4D90100000000000000
 0010000000D2A327C211CEAC4AB243CAF83AFE797F
CREATED;VALUE=DATE-TIME:20230626T125534Z
LAST-MODIFIED;VALUE=DATE-TIME:20230626T130008Z
URL:https://www.sek-pratteln.ch/events/oeffentlich/sporttag-7
END:VEVENT
END:VCALENDAR
