BEGIN:VCALENDAR
VERSION:2.0
PRODID:-//Plone.org//NONSGML plone.app.event//EN
X-WR-TIMEZONE:Europe/Zurich
BEGIN:VEVENT
SUMMARY:Sporttag
DTSTART;VALUE=DATE:20220620
DTEND;VALUE=DATE:20220621
DTSTAMP;VALUE=DATE-TIME:20260421T110434Z
UID:040000008200E00074C5B7101A82E0080000000070137DDAA663D70100000000000000
 00100000001287EA6EA5012D48A2D8DBE035F88966
CREATED;VALUE=DATE-TIME:20210701T072630Z
LAST-MODIFIED;VALUE=DATE-TIME:20210701T072754Z
URL:https://www.sek-pratteln.ch/events/oeffentlich/sporttag-5
END:VEVENT
END:VCALENDAR
