BEGIN:VCALENDAR
VERSION:2.0
PRODID:-//Plone.org//NONSGML plone.app.event//EN
X-WR-TIMEZONE:Europe/Zurich
BEGIN:VEVENT
SUMMARY:Sporttag
DTSTART;VALUE=DATE:20210621
DTEND;VALUE=DATE:20210622
DTSTAMP;VALUE=DATE-TIME:20260421T110435Z
UID:040000008200E00074C5B7101A82E00800000000807FD5332A4AD60100000000000000
 0010000000D7F2A24D131E3B4E8B1D638CF4B7B88B
CREATED;VALUE=DATE-TIME:20200706T062822Z
LAST-MODIFIED;VALUE=DATE-TIME:20200706T064403Z
URL:https://www.sek-pratteln.ch/events/oeffentlich/sporttag-4
END:VEVENT
END:VCALENDAR
