BEGIN:VCALENDAR
VERSION:2.0
PRODID:-//Plone.org//NONSGML plone.app.event//EN
X-WR-TIMEZONE:Europe/Zurich
BEGIN:VEVENT
SUMMARY:Sporttag
DTSTART;VALUE=DATE:20190619
DTEND;VALUE=DATE:20190620
DTSTAMP;VALUE=DATE-TIME:20260420T132418Z
UID:040000008200E00074C5B7101A82E00800000000C000461AD907D40100000000000000
 0010000000F2086FD068378F45B5AD67F4241235F0
CREATED;VALUE=DATE-TIME:20180629T060540Z
DESCRIPTION:\n\n
LAST-MODIFIED;VALUE=DATE-TIME:20200706T064353Z
URL:https://www.sek-pratteln.ch/events/oeffentlich/sporttag-3
END:VEVENT
END:VCALENDAR
