BEGIN:VCALENDAR
VERSION:2.0
PRODID:-//Plone.org//NONSGML plone.app.event//EN
X-WR-TIMEZONE:Europe/Zurich
BEGIN:VEVENT
SUMMARY:Sporttag
DTSTART;VALUE=DATE:20180620
DTEND;VALUE=DATE:20180621
DTSTAMP;VALUE=DATE-TIME:20260420T095831Z
UID:040000008200E00074C5B7101A82E00800000000802B9BB0F0E8D20100000000000000
 0010000000E90C0695490E7B46BB395FC3B2B4792E
CREATED;VALUE=DATE-TIME:20170623T094922Z
DESCRIPTION:None
LAST-MODIFIED;VALUE=DATE-TIME:20200706T064351Z
URL:https://www.sek-pratteln.ch/events/oeffentlich/sporttag-2
END:VEVENT
END:VCALENDAR
