BEGIN:VCALENDAR
VERSION:2.0
PRODID:-//Plone.org//NONSGML plone.app.event//EN
X-WR-TIMEZONE:Europe/Zurich
BEGIN:VEVENT
SUMMARY:Sporttag
DTSTART;VALUE=DATE:20170613
DTEND;VALUE=DATE:20170614
DTSTAMP;VALUE=DATE-TIME:20260421T110530Z
UID:040000008200E00074C5B7101A82E0080000000020D8F4E5D3DED20100000000000000
 00100000001E9A45B17BE31E40BA83DF9021A69BF6
CREATED;VALUE=DATE-TIME:20170623T094904Z
LAST-MODIFIED;VALUE=DATE-TIME:20200706T064349Z
URL:https://www.sek-pratteln.ch/events/oeffentlich/sporttag-1
END:VEVENT
END:VCALENDAR
