BEGIN:VCALENDAR
VERSION:2.0
PRODID:-//Plone.org//NONSGML plone.app.event//EN
X-WR-TIMEZONE:Europe/Zurich
BEGIN:VEVENT
SUMMARY:Spielnachmittag 3. Klassen
DTSTART;TZID=Europe/Zurich;VALUE=DATE-TIME:20190606T130000
DTEND;TZID=Europe/Zurich;VALUE=DATE-TIME:20190606T170000
DTSTAMP;VALUE=DATE-TIME:20260421T110815Z
UID:c65548d37e1a45ecafe8429525b565b3@5.35.252.84:8090
CONTACT:Christian Martinez
CREATED;VALUE=DATE-TIME:20190503T081155Z
DESCRIPTION:Beach-Volleyball
LAST-MODIFIED;VALUE=DATE-TIME:20200706T064356Z
LOCATION:St. Jakob\, Basel
URL:https://www.sek-pratteln.ch/events/oeffentlich/spielnachmittag-3-klass
 en
END:VEVENT
BEGIN:VTIMEZONE
TZID:Europe/Zurich
X-LIC-LOCATION:Europe/Zurich
BEGIN:DAYLIGHT
DTSTART;VALUE=DATE-TIME:20190331T030000
TZNAME:CEST
TZOFFSETFROM:+0100
TZOFFSETTO:+0200
END:DAYLIGHT
END:VTIMEZONE
END:VCALENDAR
