BEGIN:VCALENDAR
VERSION:2.0
PRODID:-//Plone.org//NONSGML plone.app.event//EN
X-WR-TIMEZONE:Europe/Zurich
BEGIN:VEVENT
SUMMARY:Spezialwoche
DTSTART;VALUE=DATE:20170911
DTEND;VALUE=DATE:20170916
DTSTAMP;VALUE=DATE-TIME:20260421T110539Z
UID:040000008200E00074C5B7101A82E00800000000D01829E6EAE8D20100000000000000
 0010000000C0BEB7F0EB6256429818B63E995F4DE6
CREATED;VALUE=DATE-TIME:20170623T094907Z
LAST-MODIFIED;VALUE=DATE-TIME:20200706T064349Z
URL:https://www.sek-pratteln.ch/events/oeffentlich/spezialwoche
END:VEVENT
END:VCALENDAR
