BEGIN:VCALENDAR
VERSION:2.0
PRODID:-//Plone.org//NONSGML plone.app.event//EN
X-WR-TIMEZONE:Europe/Zurich
BEGIN:VEVENT
SUMMARY:Spezialwoche (Winter)
DTSTART;VALUE=DATE:20190107
DTEND;VALUE=DATE:20190112
DTSTAMP;VALUE=DATE-TIME:20260421T104959Z
UID:040000008200E00074C5B7101A82E00800000000606CA384D807D40100000000000000
 00100000005657AEFAB0784C4E910A86897127320C
CREATED;VALUE=DATE-TIME:20180629T060543Z
DESCRIPTION:\n\n
LAST-MODIFIED;VALUE=DATE-TIME:20200706T064353Z
URL:https://www.sek-pratteln.ch/events/oeffentlich/spezialwoche-winter
END:VEVENT
END:VCALENDAR
