BEGIN:VCALENDAR
VERSION:2.0
PRODID:-//Plone.org//NONSGML plone.app.event//EN
X-WR-TIMEZONE:Europe/Zurich
BEGIN:VEVENT
SUMMARY:Spezialwoche Winter
DTSTART;VALUE=DATE:20260126
DTEND;VALUE=DATE:20260131
DTSTAMP;VALUE=DATE-TIME:20260421T153751Z
UID:040000008200E00074C5B7101A82E00800000000C0D416F919D2DB0100000000000000
 001000000089AC6A7D62FA1E49B95F2581CCF050B7
CREATED;VALUE=DATE-TIME:20250611T084919Z
LAST-MODIFIED;VALUE=DATE-TIME:20250611T085637Z
URL:https://www.sek-pratteln.ch/events/oeffentlich/spezialwoche-winter-3
END:VEVENT
END:VCALENDAR
